BEGIN:VCALENDAR
VERSION:2.0
PRODID:-//eventon.com NONSGML v1.0//EN
CALSCALE:GREGORIAN
METHOD:PUBLISH
BEGIN:VEVENT
UID:69e7a854e43f9
DTSTAMP:20260421T163948Z
DTSTART:20260507T183000Z
DTEND:20260507T193000Z
LOCATION:https://us06web.zoom.us/j/82130758649?pwd=HkUbVgN9aKlWzldnxIgI6UG4sye91Z.1
SUMMARY:Atelier 50 ans du CPHB : Politique et Société
DESCRIPTION:L’atelier “Politique et Société“ propose une réunion e
 n visio. Qui que vous soyez\,  si vous êtes intéressés par les questions
  de foi et politique\,  en pensant au contexte actuel et aux échéances fu
 tures\,  si vous vous interrogez sur notre société\,  ses inégalités\, 
  sur l’ordre économique mondial et l’avenir des démocraties\, [..]\nh
 ttps://saintmerry-hors-les-murs.com/events/atelier-50-ans-du-cphb-politique
 -et-societe-5/var/event_access
URL:https://saintmerry-hors-les-murs.com/events/atelier-50-ans-du-cphb-politique-et-societe-5/var/event_access
END:VEVENT
END:VCALENDAR